BEGIN:VCALENDAR
VERSION:2.0
PRODID:-//Tørring Camping - ECPv6.15.20//NONSGML v1.0//EN
CALSCALE:GREGORIAN
METHOD:PUBLISH
X-WR-CALNAME:Tørring Camping
X-ORIGINAL-URL:https://www.toerringcamping.dk
X-WR-CALDESC:Begivenheder for Tørring Camping
REFRESH-INTERVAL;VALUE=DURATION:PT1H
X-Robots-Tag:noindex
X-PUBLISHED-TTL:PT1H
BEGIN:VTIMEZONE
TZID:UTC
BEGIN:STANDARD
TZOFFSETFROM:+0000
TZOFFSETTO:+0000
TZNAME:UTC
DTSTART:20240101T000000
END:STANDARD
END:VTIMEZONE
BEGIN:VEVENT
DTSTART;VALUE=DATE:20251217
DTEND;VALUE=DATE:20251220
DTSTAMP:20260421T155013
CREATED:20241222T135142Z
LAST-MODIFIED:20241222T135142Z
UID:819-1765929600-1766188799@www.toerringcamping.dk
SUMMARY:Juleweekend
DESCRIPTION:Julens glæder med kreative værksteder\, varme drikke og hyggelige aktiviteter. Slut året af med en festlig middag og julesange.
URL:https://www.toerringcamping.dk/event/juleweekend/
END:VEVENT
BEGIN:VEVENT
DTSTART;VALUE=DATE:20251114
DTEND;VALUE=DATE:20251117
DTSTAMP:20260421T155013
CREATED:20241222T135009Z
LAST-MODIFIED:20241222T135009Z
UID:816-1763078400-1763337599@www.toerringcamping.dk
SUMMARY:Bål weekend
DESCRIPTION:Hygge ved bålet med fortællinger\, kreative workshops og lækre snacks. Lanternemiddag og afslapning i en stemningsfuld atmosfære.
URL:https://www.toerringcamping.dk/event/bal-weekend/
END:VEVENT
BEGIN:VEVENT
DTSTART;VALUE=DATE:20251017
DTEND;VALUE=DATE:20251020
DTSTAMP:20260421T155013
CREATED:20241222T134810Z
LAST-MODIFIED:20241222T134810Z
UID:813-1760659200-1760918399@www.toerringcamping.dk
SUMMARY:Oktoberfest
DESCRIPTION:Deltag i en weekend med alt det bedste fra oktoberfesten! Lær at lave pretzels\, prøv kræfter med sjove traditioner\, og nyd stemningen med lækker mad og levende musik\, der inviterer til både hygge og fællesskab.
URL:https://www.toerringcamping.dk/event/oktoberfest/
END:VEVENT
BEGIN:VEVENT
DTSTART;VALUE=DATE:20250919
DTEND;VALUE=DATE:20250922
DTSTAMP:20260421T155013
CREATED:20241222T134654Z
LAST-MODIFIED:20241222T134654Z
UID:810-1758240000-1758499199@www.toerringcamping.dk
SUMMARY:Sport og adventure
DESCRIPTION:En actionfyldt weekend med sjove udfordringer som skattejagt og kanoaktiviteter\, der får pulsen op og smilene frem. Lørdagen rundes af med fælles spil og en hyggelig middag\, hvor der er plads til både grin og gode samtaler.
URL:https://www.toerringcamping.dk/event/sport-og-adventure/
END:VEVENT
BEGIN:VEVENT
DTSTART;VALUE=DATE:20250829
DTEND;VALUE=DATE:20250901
DTSTAMP:20260421T155013
CREATED:20241222T134520Z
LAST-MODIFIED:20241222T134520Z
UID:807-1756425600-1756684799@www.toerringcamping.dk
SUMMARY:Musik weekend
DESCRIPTION:Musikken sætter tonen med sjove aktiviteter som familiekaraoke\, åben scene og værksteder\, hvor I kan lave jeres egne instrumenter. Glæd jer til livemusik\, dansekonkurrencer og fælles musikquizzer\, der bringer grin og god stemning til hele weekenden.
URL:https://www.toerringcamping.dk/event/musik-weekend/
END:VEVENT
BEGIN:VEVENT
DTSTART;VALUE=DATE:20250701
DTEND;VALUE=DATE:20250801
DTSTAMP:20260421T155013
CREATED:20241222T133850Z
LAST-MODIFIED:20241222T133850Z
UID:804-1751328000-1754006399@www.toerringcamping.dk
SUMMARY:Sommeren
DESCRIPTION:Daglige aktiviteter med alt fra naturfotografi og blomsterkransfremstilling til stille kanooplevelser. Om aftenen kan man nyde livemusik og stjernekiggeri.
URL:https://www.toerringcamping.dk/event/sommeren/
END:VEVENT
BEGIN:VEVENT
DTSTART;VALUE=DATE:20250620
DTEND;VALUE=DATE:20250623
DTSTAMP:20260421T155013
CREATED:20241222T133502Z
LAST-MODIFIED:20241222T133502Z
UID:800-1750377600-1750636799@www.toerringcamping.dk
SUMMARY:Vand weekend
DESCRIPTION:Aktiviteter ved og på vandet som kanoture\, stafet og vaske ægte vandkamp. Oplev en middag ved flodbredden\, hvor lanterner skaber en afslappende stemning.
URL:https://www.toerringcamping.dk/event/vand-weekend/
END:VEVENT
BEGIN:VEVENT
DTSTART;VALUE=DATE:20250523
DTEND;VALUE=DATE:20250526
DTSTAMP:20260421T155013
CREATED:20241222T132800Z
LAST-MODIFIED:20241222T132800Z
UID:797-1747958400-1748217599@www.toerringcamping.dk
SUMMARY:Family Fun weekend
DESCRIPTION:En weekend med fokus på fælles oplevelser\, fra picnic-opsætninger til hyggelige spil og aktiviteter. Lørdag afsluttes med en quiz og præmier.
URL:https://www.toerringcamping.dk/event/family-fun-weekend/
END:VEVENT
BEGIN:VEVENT
DTSTART;VALUE=DATE:20250417
DTEND;VALUE=DATE:20250422
DTSTAMP:20260421T155013
CREATED:20241222T132519Z
LAST-MODIFIED:20241222T132519Z
UID:794-1744848000-1745279999@www.toerringcamping.dk
SUMMARY:Påske
DESCRIPTION:Oplev ægte påskestemning med hyggelige kreative værksteder\, spændende æggejagt og stemningsfulde naturvandringer. I forkæles med en festlig middag og underholdende quizzer\, der emmer af påskens glæde og traditioner.
URL:https://www.toerringcamping.dk/event/paske/
END:VEVENT
BEGIN:VEVENT
DTSTART;VALUE=DATE:20250321
DTEND;VALUE=DATE:20250324
DTSTAMP:20260421T155013
CREATED:20241222T132405Z
LAST-MODIFIED:20241222T132405Z
UID:791-1742515200-1742774399@www.toerringcamping.dk
SUMMARY:Vikinge weekend
DESCRIPTION:Her vil der være autentiske aktiviteter som smykkefletning og historiefortælling om vikingerne\, der bringer fortiden til live. Stemningen fuldendes med en festlig vikingeinspireret middag\, der gør weekenden både lærerig og underholdende.
URL:https://www.toerringcamping.dk/event/vikinge-weekend/
END:VEVENT
BEGIN:VEVENT
DTSTART;VALUE=DATE:20250214
DTEND;VALUE=DATE:20250217
DTSTAMP:20260421T155013
CREATED:20241222T132233Z
LAST-MODIFIED:20241222T132233Z
UID:788-1739491200-1739750399@www.toerringcamping.dk
SUMMARY:Valentins weekend
DESCRIPTION:En weekend i kærlighedens tegn med velkomstpakke\, kreative aktiviteter som lysstøbning og keramik\, samt en hyggelig middag og quiz lørdag aften.
URL:https://www.toerringcamping.dk/event/valentins-weekend/
END:VEVENT
END:VCALENDAR